BEGIN:VCALENDAR
VERSION:2.0
PRODID:-//Marko Vračan - Službena web stranica - ECPv6.15.17.1//NONSGML v1.0//EN
CALSCALE:GREGORIAN
METHOD:PUBLISH
X-WR-CALNAME:Marko Vračan - Službena web stranica
X-ORIGINAL-URL:https://www.markovracan.com
X-WR-CALDESC:Events for Marko Vračan - Službena web stranica
REFRESH-INTERVAL;VALUE=DURATION:PT1H
X-Robots-Tag:noindex
X-PUBLISHED-TTL:PT1H
BEGIN:VTIMEZONE
TZID:Europe/Paris
BEGIN:DAYLIGHT
TZOFFSETFROM:+0100
TZOFFSETTO:+0200
TZNAME:CEST
DTSTART:20230326T010000
END:DAYLIGHT
BEGIN:STANDARD
TZOFFSETFROM:+0200
TZOFFSETTO:+0100
TZNAME:CET
DTSTART:20231029T010000
END:STANDARD
BEGIN:DAYLIGHT
TZOFFSETFROM:+0100
TZOFFSETTO:+0200
TZNAME:CEST
DTSTART:20240331T010000
END:DAYLIGHT
BEGIN:STANDARD
TZOFFSETFROM:+0200
TZOFFSETTO:+0100
TZNAME:CET
DTSTART:20241027T010000
END:STANDARD
BEGIN:DAYLIGHT
TZOFFSETFROM:+0100
TZOFFSETTO:+0200
TZNAME:CEST
DTSTART:20250330T010000
END:DAYLIGHT
BEGIN:STANDARD
TZOFFSETFROM:+0200
TZOFFSETTO:+0100
TZNAME:CET
DTSTART:20251026T010000
END:STANDARD
END:VTIMEZONE
BEGIN:VEVENT
DTSTART;TZID=Europe/Paris:20240817T100000
DTEND;TZID=Europe/Paris:20240817T130000
DTSTAMP:20260423T005133
CREATED:20240812T200437Z
LAST-MODIFIED:20241029T151423Z
UID:25574-1723888800-1723899600@www.markovracan.com
SUMMARY:Rekreativni turnir Savska 17.08.2024.
DESCRIPTION:Odigran je turnir na kojem je nastupilo 15 natjecatelja. Pobjednik turnira bio je  Mislav Stipetić. \n  \n\n\n\nPot\nGroup A\nWins\nPlay\nWin %\nSetw\nSets\nSet %\nPointw\nPoints\nPoint %\nPlace\n\n\n1\nMirjana Lučić\n2\n2\n100%\n6\n6\n100%\n66\n96\n69%\n1\n\n\n2\nBruno Perković\n0\n2\n0%\n1\n7\n14%\n45\n120\n38%\n3\n\n\n3\nStanimir Vlahović\n1\n2\n50%\n3\n7\n43%\n54\n114\n47%\n2\n\n\n\n  \n\n\n\nPot\nGroup A\nS1\nS2\nS3\nS4\nREZ\n\n\n\n\n\n\n1\nMirjana Lučić\n11\n11\n11\n\n3\n\n\n\n\n\n\n3\nStanimir Vlahović\n4\n2\n6\n\n0\n\n\n\n\n\n\n2\nBruno Perković\n5\n11\n5\n6\n1\n\n\n\n\n\n\n3\nStanimir Vlahović\n11\n9\n11\n11\n3\n\n\n\n\n\n\n1\nMirjana Lučić\n11\n11\n11\n\n3\n\n\n\n\n\n\n2\nBruno Perković\n5\n7\n6\n\n0\n\n\n\n\n\n\n\n  \n\n\n\nGroup B\nWins\nPlay\nWin %\nSetw\nSets\nSet %\nPointw\nPoints\nPoint %\nPlace\n\n\nMislav Stipetić\n3\n3\n100%\n9\n9\n100%\n99\n145\n68%\n1\n\n\nAntonio Dominik Jelenski\n2\n3\n67%\n6\n12\n50%\n100\n199\n50%\n2\n\n\nIvan Puljko\n1\n3\n33%\n5\n12\n42%\n90\n198\n45%\n3\n\n\nAdrijan Jakšić\n0\n3\n0%\n2\n11\n18%\n75\n186\n40%\n4\n\n\n\n  \n\n\n\nPot\nGroup B\nS1\nS2\nS3\nS4\nS5\n\n\n\nRez\n\n\n1\nMislav Stipetić\n11\n11\n11\n\n\n\n\n\n3\n\n\n4\nAdrijan Jakšić\n2\n5\n7\n\n\n\n\n\n0\n\n\n2\nAntonio Dominik Jelenski\n2\n11\n8\n11\n11\n\n\n\n3\n\n\n3\nIvan Puljko\n11\n5\n11\n7\n3\n\n\n\n2\n\n\n1\nMislav Stipetić\n11\n11\n11\n\n\n\n\n\n3\n\n\n3\nIvan Puljko\n3\n4\n7\n\n\n\n\n\n0\n\n\n2\nAntonio Dominik Jelenski\n6\n11\n11\n11\n\n\n\n\n3\n\n\n4\nAdrijan Jakšić\n11\n3\n8\n7\n\n\n\n\n1\n\n\n1\nMislav Stipetić\n11\n11\n11\n\n\n\n\n\n3\n\n\n2\nAntonio Dominik Jelenski\n6\n7\n5\n\n\n\n\n\n0\n\n\n3\nIvan Puljko\n11\n6\n11\n11\n\n\n\n\n3\n\n\n4\nAdrijan Jakšić\n7\n11\n7\n7\n\n\n\n\n1\n\n\n\n  \n\n\n\nGroup C\nWins\nPlay\nWin %\nSetw\nSets\nSet %\nPointw\nPoints\nPoint %\nPlace\n\n\nRoman Rodić\n3\n3\n100%\n9\n9\n100%\n99\n142\n70%\n1\n\n\nIvan Javor\n2\n3\n67%\n6\n9\n67%\n88\n154\n57%\n2\n\n\nNiko Grlić\n1\n3\n33%\n3\n10\n30%\n78\n180\n43%\n3\n\n\nMiljenko Bublić\n0\n3\n0%\n1\n10\n10%\n57\n168\n34%\n4\n\n\n\n  \n\n\n\nPot\nGroup C\nS1\nS2\nS3\n\n\n\n\n\nRez\n\n\n1\nRoman Rodić\n11\n11\n11\n\n\n\n\n\n3\n\n\n4\nMiljenko Bublić\n3\n2\n2\n\n\n\n\n\n0\n\n\n2\nIvan Javor\n11\n11\n11\n\n\n\n\n\n3\n\n\n3\nNiko Grlić\n2\n8\n9\n\n\n\n\n\n0\n\n\n1\nRoman Rodić\n11\n11\n11\n\n\n\n\n\n3\n\n\n3\nNiko Grlić\n6\n2\n6\n\n\n\n\n\n0\n\n\n2\nIvan Javor\n11\n11\n11\n\n\n\n\n\n3\n\n\n4\nMiljenko Bublić\n6\n1\n7\n\n\n\n\n\n0\n\n\n1\nRoman Rodić\n11\n11\n11\n\n\n\n\n\n3\n\n\n2\nIvan Javor\n7\n7\n8\n\n\n\n\n\n0\n\n\n3\nNiko Grlić\n13\n11\n10\n11\n\n\n\n\n3\n\n\n4\nMiljenko Bublić\n11\n6\n12\n7\n\n\n\n\n1\n\n\n\n  \n\n\n\nGroup D\nWins\nPlay\nWin %\nSetw\nSets\nSet %\nPointw\nPoints\nPoint %\nPlace\n\n\nIvica Baraba\n3\n3\n100%\n9\n9\n100%\n99\n136\n73%\n1\n\n\nDavid Tomić\n1\n3\n33%\n4\n12\n33%\n99\n220\n45%\n3\n\n\nEdi Emanović\n2\n3\n67%\n6\n10\n60%\n88\n170\n52%\n2\n\n\nAntonio Lovrić\n0\n3\n0%\n2\n11\n18%\n76\n198\n38%\n4\n\n\n\n  \n\n\n\nPot\nGroup D\nS1\n\nS2\nS3\n\nS4\nS5\n\nRez\n\n\n1\nIvica Baraba\n11\n11\n11\n\n\n\n\n\n3\n\n\n4\nAntonio Lovrić\n6\n1\n2\n\n\n\n\n\n0\n\n\n2\nDavid Tomić\n11\n8\n6\n7\n\n\n\n\n1\n\n\n3\nEdi Emanović\n5\n11\n11\n11\n\n\n\n\n3\n\n\n1\nIvica Baraba\n11\n11\n11\n\n\n\n\n\n3\n\n\n3\nEdi Emanović\n5\n4\n6\n\n\n\n\n\n0\n\n\n2\nDavid Tomić\n11\n9\n11\n10\n13\n\n\n\n3\n\n\n4\nAntonio Lovrić\n7\n11\n9\n12\n11\n\n\n\n2\n\n\n1\nIvica Baraba\n11\n11\n11\n\n\n\n\n\n3\n\n\n2\nDavid Tomić\n6\n1\n6\n\n\n\n\n\n0\n\n\n3\nEdi Emanović\n11\n13\n11\n\n\n\n\n\n3\n\n\n4\nAntonio Lovrić\n3\n11\n3\n\n\n\n\n\n0\n\n\n\n______________________________________________________________________ \n2. KRUG \n______________________________________________________________________ \n  \n\n\n\nGroup\n1.-4.\nWins\nPlay\nWin %\nSetw\nSets\nSet %\nPointw\nPoints\nPoint %\nPlace\n\n\nA\nMirjana Lučić\n2\n3\n67%\n6\n11\n55%\n108\n197\n55%\n2\n\n\nB\nMislav Stipetić\n3\n3\n100%\n9\n9\n100%\n106\n183\n58%\n1\n\n\nC\nRoman Rodić\n0\n3\n0%\n1\n10\n10%\n63\n168\n38%\n4\n\n\nD\nIvica Baraba\n1\n3\n33%\n5\n12\n42%\n114\n234\n49%\n3\n\n\n\n  \n\n\n\nGroup\n1.-4.\nS1\nS2\nS3\nS4\nS5\n\n\n\nRez\n\n\nA\nMirjana Lučić\n8\n11\n9\n11\n11\n\n\n\n3\n\n\nD\nIvica Baraba\n11\n4\n11\n8\n7\n\n\n\n2\n\n\nB\nMislav Stipetić\n11\n11\n11\n\n\n\n\n\n3\n\n\nC\nRoman Rodić\n3\n7\n8\n\n\n\n\n\n0\n\n\nA\nMirjana Lučić\n11\n11\n11\n\n\n\n\n\n3\n\n\nC\nRoman Rodić\n6\n3\n6\n\n\n\n\n\n0\n\n\nB\nMislav Stipetić\n13\n11\n16\n\n\n\n\n\n3\n\n\nD\nIvica Baraba\n11\n9\n14\n\n\n\n\n\n0\n\n\nA\nMirjana Lučić\n9\n8\n8\n\n\n\n\n\n0\n\n\nB\nMislav Stipetić\n11\n11\n11\n\n\n\n\n\n3\n\n\nC\nRoman Rodić\n4\n11\n7\n8\n\n\n\n\n1\n\n\nD\nIvica Baraba\n11\n6\n11\n11\n\n\n\n\n3\n\n\n\n  \n\n\n\n5.-8.\nWins\nPlay\nWin %\nSetw\nSets\nSet %\nPointw\nPoints\nPoint %\nPlace\n\n\nStanimir Vlahović\n1\n3\n33%\n4\n11\n36%\n97\n210\n46%\n7\n\n\nAntonio Dominik Jelenski\n3\n3\n100%\n9\n13\n69%\n131\n228\n57%\n5\n\n\nIvan Javor\n2\n3\n67%\n8\n12\n67%\n114\n222\n51%\n6\n\n\nEdi Emanović\n0\n3\n0%\n3\n12\n25%\n98\n220\n45%\n8\n\n\n\n  \n\n\n\nGroup\n5.-8.\nS1\nS2\nS3\nS4\nS5\n\n\n\nRez\n\n\nA\nStanimir Vlahović\n13\n7\n11\n11\n\n\n\n\n3\n\n\nD\nEdi Emanović\n11\n11\n8\n7\n\n\n\n\n1\n\n\nB\nAntonio Dominik Jelenski\n4\n10\n11\n11\n13\n\n\n\n3\n\n\nC\nIvan Javor\n11\n12\n3\n3\n11\n\n\n\n2\n\n\nA\nStanimir Vlahović\n11\n6\n8\n\n\n\n\n\n0\n\n\nC\nIvan Javor\n13\n11\n11\n\n\n\n\n\n3\n\n\nB\nAntonio Dominik Jelenski\n8\n11\n11\n11\n\n\n\n\n3\n\n\nD\nEdi Emanović\n11\n6\n3\n7\n\n\n\n\n1\n\n\nA\nStanimir Vlahović\n10\n6\n11\n3\n\n\n\n\n1\n\n\nB\nAntonio Dominik Jelenski\n12\n11\n7\n11\n\n\n\n\n3\n\n\nC\nIvan Javor\n5\n11\n12\n11\n\n\n\n\n3\n\n\nD\nEdi Emanović\n11\n5\n10\n8\n\n\n\n\n1\n\n\n\n  \n\n\n\n9.-12.\nWins\nPlay\nWin %\nSetw\nSets\nSet %\nPointw\nPoints\nPoint %\nPlace\n\n\nBruno Perković\n0\n3\n0%\n0\n9\n0%\n0\n9\n0%\n12\n\n\nIvan Puljko\n2\n3\n67%\n6\n11\n55%\n80\n161\n50%\n10\n\n\nNiko Grlić\n1\n3\n33%\n5\n11\n45%\n74\n159\n47%\n11\n\n\nDavid Tomić\n3\n3\n100%\n9\n9\n100%\n69\n117\n59%\n9\n\n\n\n  \n\n\n\nGroup\n9.-12.\nS1\nS2\nS3\nS4\nS5\n\n\n\nRez\n\n\nA\nBruno Perković\n0\n0\n0\n\n\n\n\n\n0\n\n\nD\nDavid Tomić\n1\n1\n1\n\n\n\n\n\n3\n\n\nB\nIvan Puljko\n11\n10\n6\n11\n14\n\n\n\n3\n\n\nC\nNiko Grlić\n4\n12\n11\n9\n12\n\n\n\n2\n\n\nA\nBruno Perković\n0\n0\n0\n\n\n\n\n\n0\n\n\nC\nNiko Grlić\n1\n1\n1\n\n\n\n\n\n3\n\n\nB\nIvan Puljko\n8\n9\n8\n\n\n\n\n\n0\n\n\nD\nDavid Tomić\n11\n11\n11\n\n\n\n\n\n3\n\n\nA\nBruno Perković\n0\n0\n0\n\n\n\n\n\n0\n\n\nB\nIvan Puljko\n1\n1\n1\n\n\n\n\n\n3\n\n\nC\nNiko Grlić\n5\n9\n9\n\n\n\n\n\n0\n\n\nD\nDavid Tomić\n11\n11\n11\n\n\n\n\n\n3\n\n\n\n  \n\n\n\n13.-15.\nWins\nPlay\nWin %\nSetw\nSets\nSet %\nPointw\nPoints\nPoint %\nPlace\n\n\n\n\n\n\n\n\n\n\n\n\n\n\n\nAdrijan Jakšić\n2\n2\n100%\n6\n7\n86%\n79\n125\n63%\n13\n\n\nMiljenko Bublić\n1\n2\n50%\n4\n7\n57%\n72\n140\n51%\n14\n\n\nAntonio Lovrić\n0\n2\n0%\n0\n6\n0%\n31\n99\n31%\n15 \n  \n \n\n\n\n  \n\n\n\nGroup\n13.-15.\nS1\nS2\nS3\nS4\nS5\n\n\n\nRez\n\n\nB\nAdrijan Jakšić\n12\n11\n12\n11\n\n\n\n\n3\n\n\nC\nMiljenko Bublić\n10\n7\n14\n6\n\n\n\n\n1\n\n\nB\nAdrijan Jakšić\n11\n11\n11\n\n\n\n\n\n3\n\n\nD\nAntonio Lovrić\n6\n1\n2\n\n\n\n\n\n0\n\n\nC\nMiljenko Bublić\n13\n11\n11\n\n\n\n\n\n3\n\n\nD\nAntonio Lovrić\n11\n5\n6\n\n\n\n\n\n0\n\n\n\n\n\n\n\n\n\n\n\n\n\n\n\n\n\n\n\n\n\n\n\n\n\n\n\n\n\n\n\n\n\n\n\n\n\n\n\n\n\n\n\n\n\n\n\n\n\n\n\n\n\n\n\n\n\n\n\n\n\n\n\n\n\n\n\n\n\n\n\n\n\n\n\n\n\n\n\n\n\n\n\n\n\nFINAL STANDINGS\nMatch\nSet\nPoint\nTour\n\n\nPlace\nPlayers\nWin\nPlay\nWin %\nWin\nPlay\nWin %\nWin\nPlay\nWin %\nPoints\n\n\n1\nMislav Stipetić\n6\n6\n100%\n18\n18\n100%\n205\n328\n63%\n100\n\n\n2\nMirjana Lučić\n4\n5\n80%\n12\n17\n71%\n174\n293\n59%\n93\n\n\n3\nIvica Baraba\n4\n6\n67%\n14\n21\n67%\n213\n370\n58%\n86\n\n\n4\nRoman Rodić\n3\n6\n50%\n10\n19\n53%\n162\n310\n52%\n79\n\n\n5\nAntonio Dominik Jelenski\n5\n6\n83%\n15\n25\n60%\n231\n427\n54%\n72\n\n\n6\nIvan Javor\n4\n6\n67%\n14\n21\n67%\n202\n376\n54%\n65\n\n\n7\nStanimir Vlahović\n2\n5\n40%\n7\n18\n39%\n151\n324\n47%\n58\n\n\n8\nEdi Emanović\n2\n6\n33%\n9\n22\n41%\n186\n390\n48%\n51\n\n\n9\nDavid Tomić\n4\n6\n67%\n13\n21\n62%\n168\n337\n50%\n43\n\n\n10\nIvan Puljko\n3\n6\n50%\n11\n23\n48%\n170\n359\n47%\n36\n\n\n11\nNiko Grlić\n2\n6\n33%\n8\n21\n38%\n152\n339\n45%\n29\n\n\n12\nBruno Perković\n0\n5\n0%\n1\n16\n6%\n45\n129\n35%\n22\n\n\n13\nAdrijan Jakšić\n2\n5\n40%\n8\n18\n44%\n154\n311\n50%\n15\n\n\n14\nMiljenko Bublić\n1\n5\n20%\n5\n17\n29%\n129\n308\n42%\n8\n\n\n15\nAntonio Lovrić\n0\n5\n0%\n2\n17\n12%\n107\n297\n36%\n1
URL:https://www.markovracan.com/turnir/rekreativni-turnir-savska-10-8-2024/
LOCATION:Stolnoteniski Centar “Dragutin Šurbek”\, Savska cesta 137\, Zagreb\, 10000
CATEGORIES:Apsolutna kategorija
ATTACH;FMTTYPE=image/jpeg:https://www.markovracan.com/wp-content/uploads/2024/08/dfdedfkebfkfkededwkwdekfkfrfegfew.jpg
END:VEVENT
END:VCALENDAR